BEGIN:VCALENDAR
VERSION:2.0
PRODID:-//SSV Heidenau e.V. - ECPv4.6.7//NONSGML v1.0//EN
CALSCALE:GREGORIAN
METHOD:PUBLISH
X-WR-CALNAME:SSV Heidenau e.V.
X-ORIGINAL-URL:https://ssvheidenau.de
X-WR-CALDESC:Events for SSV Heidenau e.V.
BEGIN:VEVENT
DTSTART;VALUE=DATE:20260426
DTEND;VALUE=DATE:20260427
DTSTAMP:20260423T115448
CREATED:20260101T183559Z
LAST-MODIFIED:20260101T183559Z
UID:5623-1777161600-1777247999@ssvheidenau.de
SUMMARY:Oberelbemarathon
DESCRIPTION:Startseite – OEM Oberelbe-Marathon \n
URL:https://ssvheidenau.de/event/oberelbemarathon/
END:VEVENT
BEGIN:VEVENT
DTSTART;VALUE=DATE:20260509
DTEND;VALUE=DATE:20260510
DTSTAMP:20260423T115448
CREATED:20260101T183145Z
LAST-MODIFIED:20260101T185330Z
UID:5617-1778284800-1778371199@ssvheidenau.de
SUMMARY:Brevet über 300 km
DESCRIPTION:Radfernfahrt als Qualifikation für Paris-Brest-Paris \n
URL:https://ssvheidenau.de/event/brevet-ueber-300-km-2/
LOCATION:Am Sportforum 5\, Heidenau\, 01809\, Deutschland
ORGANIZER;CN="Sport-%20und%20Spielverein%20Heidenau%20e.V.":MAILTO:vorstand@ssvheidenau.de
END:VEVENT
BEGIN:VEVENT
DTSTART;TZID=Europe/Berlin:20260509T140000
DTEND;TZID=Europe/Berlin:20260509T170000
DTSTAMP:20260423T115448
CREATED:20260101T183419Z
LAST-MODIFIED:20260101T190345Z
UID:5621-1778335200-1778346000@ssvheidenau.de
SUMMARY:Citylauf in Heidenau
DESCRIPTION:Citylauf Heidenau – Jetzt anmelden – Citylauf Heidenau \n
URL:https://ssvheidenau.de/event/citylauf-in-heidenau/
ORGANIZER;CN="DLRG%20OG%20Heidenau%20e.%20V.":MAILTO:info@heidenau.dlrg.de 
END:VEVENT
BEGIN:VEVENT
DTSTART;TZID=Europe/Berlin:20260510T140000
DTEND;TZID=Europe/Berlin:20260510T170000
DTSTAMP:20260423T115448
CREATED:20260101T183227Z
LAST-MODIFIED:20260101T185445Z
UID:5619-1778421600-1778432400@ssvheidenau.de
SUMMARY:Frühjahrspreis der Steher  „Preis der Ostsächsischen Sparkasse Dresden“
DESCRIPTION:Steherrennen hinter Motoren \n
URL:https://ssvheidenau.de/event/fruehjahrspreis-der-steher-preis-der-ostsaechsischen-sparkasse-dresden/
LOCATION:Am Sportforum 5\, Heidenau\, 01809\, Deutschland
ORGANIZER;CN="Sport-%20und%20Spielverein%20Heidenau%20e.V.":MAILTO:vorstand@ssvheidenau.de
END:VEVENT
BEGIN:VEVENT
DTSTART;VALUE=DATE:20260521
DTEND;VALUE=DATE:20260522
DTSTAMP:20260423T115448
CREATED:20260101T183718Z
LAST-MODIFIED:20260101T185321Z
UID:5625-1779321600-1779407999@ssvheidenau.de
SUMMARY:Brevet über 1000 km
DESCRIPTION:Radfernfahrt als Qualifikation für Paris-Brest-Pari \n
URL:https://ssvheidenau.de/event/brevet-ueber-1000-km/
LOCATION:Am Sportforum 5\, Heidenau\, 01809\, Deutschland
ORGANIZER;CN="Sport-%20und%20Spielverein%20Heidenau%20e.V.":MAILTO:vorstand@ssvheidenau.de
END:VEVENT
BEGIN:VEVENT
DTSTART;VALUE=DATE:20260530
DTEND;VALUE=DATE:20260531
DTSTAMP:20260423T115448
CREATED:20260101T183802Z
LAST-MODIFIED:20260101T185312Z
UID:5627-1780099200-1780185599@ssvheidenau.de
SUMMARY:Kreismeisterschaften SSOE im Beach-Volleyball Sun Serve 2026 Mixed
DESCRIPTION:Meldung über das SAMS-Portal des SSVB \n
URL:https://ssvheidenau.de/event/kreismeisterschaften-ssoe-im-beach-volleyball-sun-serve-2026-mixed/
LOCATION:Hauptstraße 5\, Heidenau\, 01809\, Deutschland
ORGANIZER;CN="Sport-%20und%20Spielverein%20Heidenau%20e.V.":MAILTO:vorstand@ssvheidenau.de
END:VEVENT
BEGIN:VEVENT
DTSTART;VALUE=DATE:20260606
DTEND;VALUE=DATE:20260708
DTSTAMP:20260423T115448
CREATED:20260101T183916Z
LAST-MODIFIED:20260101T185256Z
UID:5629-1780704000-1783468799@ssvheidenau.de
SUMMARY:Brevet über 400 km
DESCRIPTION:Radfernfahrt als Qualifikation für Paris-Brest-Paris \n
URL:https://ssvheidenau.de/event/brevet-ueber-400-km-2/
LOCATION:Am Sportforum 5\, Heidenau\, 01809\, Deutschland
ORGANIZER;CN="Sport-%20und%20Spielverein%20Heidenau%20e.V.":MAILTO:vorstand@ssvheidenau.de
END:VEVENT
BEGIN:VEVENT
DTSTART;VALUE=DATE:20260612
DTEND;VALUE=DATE:20260615
DTSTAMP:20260423T115448
CREATED:20260101T184132Z
LAST-MODIFIED:20260101T185241Z
UID:5631-1781222400-1781481599@ssvheidenau.de
SUMMARY:Jahresabschluss Handball
DESCRIPTION:Jahresabschluss Handball für die Jugend D\, E und F ml und wbl \n
URL:https://ssvheidenau.de/event/jahresabschluss-handball/
LOCATION:Hauptstraße 5\, Heidenau\, 01809\, Deutschland
ORGANIZER;CN="Sport-%20und%20Spielverein%20Heidenau%20e.V.":MAILTO:vorstand@ssvheidenau.de
END:VEVENT
BEGIN:VEVENT
DTSTART;TZID=Europe/Berlin:20260613T160000
DTEND;TZID=Europe/Berlin:20260613T190000
DTSTAMP:20260423T115448
CREATED:20260101T184241Z
LAST-MODIFIED:20260329T074930Z
UID:5633-1781366400-1781377200@ssvheidenau.de
SUMMARY:Kinderradrennen unterstützt von der Ostsächsischen Sparkasse Dresden
DESCRIPTION:Kinderradrennen für Vorschulkinder und jüngere Schulkinder\, unterstützt von der Ostsächsischen Sparkasse Dresden \nRadsportwettbewerbe für Kinder ab 3 Jahre bis 12 Jahre.\nWettbewerbe mit dem Laufrad (für die Kleinsten)\nWettbewerbe mit dem Fahrrad\nAchtung: Helmpflicht! \n
URL:https://ssvheidenau.de/event/kinderradrennen-unterstuetzt-von-der-ostsaechsischen-sparkasse-dresden/
LOCATION:Am Sportforum 5\, Heidenau\, 01809\, Deutschland
ORGANIZER;CN="Sport-%20und%20Spielverein%20Heidenau%20e.V.":MAILTO:vorstand@ssvheidenau.de
END:VEVENT
BEGIN:VEVENT
DTSTART;TZID=Europe/Berlin:20260614T140000
DTEND;TZID=Europe/Berlin:20260614T180000
DTSTAMP:20260423T115448
CREATED:20260101T184356Z
LAST-MODIFIED:20260101T185218Z
UID:5635-1781445600-1781460000@ssvheidenau.de
SUMMARY:Steherrennen „Preis der Ostsächsischen Sparkasse Dresden“
DESCRIPTION:\nSteherrennen hinter Motoren \n\n
URL:https://ssvheidenau.de/event/steherrennen-preis-der-ostsaechsischen-sparkasse-dresden/
LOCATION:Am Sportforum 5\, Heidenau\, 01809\, Deutschland
ORGANIZER;CN="Sport-%20und%20Spielverein%20Heidenau%20e.V.":MAILTO:vorstand@ssvheidenau.de
END:VEVENT
BEGIN:VEVENT
DTSTART;VALUE=DATE:20260620
DTEND;VALUE=DATE:20260621
DTSTAMP:20260423T115448
CREATED:20260101T184524Z
LAST-MODIFIED:20260101T185153Z
UID:5637-1781913600-1781999999@ssvheidenau.de
SUMMARY:Brevet über 1200 km
DESCRIPTION:Radfernfahrt als Qualifikation für Paris-Brest-Paris \n
URL:https://ssvheidenau.de/event/brevet-ueber-400-km-2-2/
LOCATION:Am Sportforum 5\, Heidenau\, 01809\, Deutschland
ORGANIZER;CN="Sport-%20und%20Spielverein%20Heidenau%20e.V.":MAILTO:vorstand@ssvheidenau.de
END:VEVENT
BEGIN:VEVENT
DTSTART;TZID=Europe/Berlin:20260620T090000
DTEND;TZID=Europe/Berlin:20260620T170000
DTSTAMP:20260423T115448
CREATED:20260101T184931Z
LAST-MODIFIED:20260101T185129Z
UID:5646-1781946000-1781974800@ssvheidenau.de
SUMMARY:„Sparkassen-Cup“ - Beach-Handballturnier D-Jugend wbl
DESCRIPTION:Handballturnier für die Altersklassen D wbl \nMeldungen bis 01.05.2026 \nAn: vorstand@ssvheidenau.de \n
URL:https://ssvheidenau.de/event/sparkassen-cup-beach-handballturnier-c-jugend-und-b-jugend-wbl-2/
LOCATION:Hauptstraße 5\, Heidenau\, 01809\, Deutschland
ORGANIZER;CN="Sport-%20und%20Spielverein%20Heidenau%20e.V.":MAILTO:vorstand@ssvheidenau.de
END:VEVENT
BEGIN:VEVENT
DTSTART;TZID=Europe/Berlin:20260621T090000
DTEND;TZID=Europe/Berlin:20260621T170000
DTSTAMP:20260423T115448
CREATED:20260101T185548Z
LAST-MODIFIED:20260101T185548Z
UID:5648-1782032400-1782061200@ssvheidenau.de
SUMMARY:Beachsonntag im Volleyball
DESCRIPTION:Meldungen bis 01.06.2026 \nAn: vorstand@ssvheidenau.de \n
URL:https://ssvheidenau.de/event/beachsonntag-im-volleyball/
LOCATION:Hauptstraße 5\, Heidenau\, 01809\, Deutschland
ORGANIZER;CN="Sport-%20und%20Spielverein%20Heidenau%20e.V.":MAILTO:vorstand@ssvheidenau.de
END:VEVENT
BEGIN:VEVENT
DTSTART;TZID=Europe/Berlin:20260621T100000
DTEND;TZID=Europe/Berlin:20260621T170000
DTSTAMP:20260423T115448
CREATED:20260101T184634Z
LAST-MODIFIED:20260101T185135Z
UID:5641-1782036000-1782061200@ssvheidenau.de
SUMMARY:„Sparkassen-Cup“ - Beach-Handballturnier C-Jugend und B- Jugend wbl
DESCRIPTION:Handballturnier für die Altersklassen C und B wbl \nMeldungen bis 01.06.2026 \nAn: vorstand@ssvheidenau.de \n
URL:https://ssvheidenau.de/event/sparkassen-cup-beach-handballturnier-c-jugend-und-b-jugend-wbl/
LOCATION:Hauptstraße 5\, Heidenau\, 01809\, Deutschland
ORGANIZER;CN="Sport-%20und%20Spielverein%20Heidenau%20e.V.":MAILTO:vorstand@ssvheidenau.de
END:VEVENT
BEGIN:VEVENT
DTSTART;TZID=Europe/Berlin:20260627T090000
DTEND;TZID=Europe/Berlin:20260627T170000
DTSTAMP:20260423T115448
CREATED:20260101T185715Z
LAST-MODIFIED:20260101T185830Z
UID:5650-1782550800-1782579600@ssvheidenau.de
SUMMARY:„Sparkassen-Cup“ - Beach-Handballturnier C ml
DESCRIPTION:Handballturnier C ml \nMeldungen bis 05.06.2026 \nan: vorstand@ssvheidenau.de \n
URL:https://ssvheidenau.de/event/sparkassen-cup-beach-handballturnier-c-ml/
LOCATION:Hauptstraße 5\, Heidenau\, 01809\, Deutschland
ORGANIZER;CN="Sport-%20und%20Spielverein%20Heidenau%20e.V.":MAILTO:vorstand@ssvheidenau.de
END:VEVENT
BEGIN:VEVENT
DTSTART;TZID=Europe/Berlin:20260628T090000
DTEND;TZID=Europe/Berlin:20260628T170000
DTSTAMP:20260423T115448
CREATED:20260101T185813Z
LAST-MODIFIED:20260101T185813Z
UID:5652-1782637200-1782666000@ssvheidenau.de
SUMMARY:„Sparkassen-Cup“ - Beach-Handballturnier B ml
DESCRIPTION:Meldungen bis 05.06.2026 \nan: vorstand@ssvheidenau.de \n
URL:https://ssvheidenau.de/event/sparkassen-cup-beach-handballturnier-b-ml/
LOCATION:Hauptstraße 5\, Heidenau\, 01809\, Deutschland
ORGANIZER;CN="Sport-%20und%20Spielverein%20Heidenau%20e.V.":MAILTO:vorstand@ssvheidenau.de
END:VEVENT
BEGIN:VEVENT
DTSTART;TZID=Europe/Berlin:20260630T160000
DTEND;TZID=Europe/Berlin:20260630T180000
DTSTAMP:20260423T115448
CREATED:20260101T185925Z
LAST-MODIFIED:20260101T185925Z
UID:5655-1782835200-1782842400@ssvheidenau.de
SUMMARY:Kindersportfest
DESCRIPTION:Kindersportfest in Heidenau-Mügeln \noffen für alle Kinder\, auch Nichtmitglieder \n
URL:https://ssvheidenau.de/event/kindersportfest/
LOCATION:Dresdner Str. 62\, Heidenau\, 01809\, Deutschland
ORGANIZER;CN="Sport-%20und%20Spielverein%20Heidenau%20e.V.":MAILTO:vorstand@ssvheidenau.de
END:VEVENT
BEGIN:VEVENT
DTSTART;VALUE=DATE:20260704
DTEND;VALUE=DATE:20260706
DTSTAMP:20260423T115448
CREATED:20260101T190007Z
LAST-MODIFIED:20260101T190007Z
UID:5657-1783123200-1783295999@ssvheidenau.de
SUMMARY:Brevet über 600 km
DESCRIPTION:Radfernfahrt als Qualifikation für Paris-Brest-Paris \n
URL:https://ssvheidenau.de/event/brevet-ueber-400-km-2-2-2/
LOCATION:Am Sportforum 5\, Heidenau\, 01809\, Deutschland
ORGANIZER;CN="Sport-%20und%20Spielverein%20Heidenau%20e.V.":MAILTO:vorstand@ssvheidenau.de
END:VEVENT
BEGIN:VEVENT
DTSTART;TZID=Europe/Berlin:20260820T160000
DTEND;TZID=Europe/Berlin:20260820T200000
DTSTAMP:20260423T115448
CREATED:20260101T190101Z
LAST-MODIFIED:20260101T190101Z
UID:5659-1787241600-1787256000@ssvheidenau.de
SUMMARY:„Sparkassen-Cup“ - Beach-Handballturnier Frauen
DESCRIPTION:Handballturnier für Frauenmannschaften \nMeldungen bis 05.08.2026 \nan: vorstand@ssvheidenau.de \n
URL:https://ssvheidenau.de/event/sparkassen-cup-beach-handballturnier-frauen/
LOCATION:Hauptstraße 5\, Heidenau\, 01809\, Deutschland
ORGANIZER;CN="Sport-%20und%20Spielverein%20Heidenau%20e.V.":MAILTO:vorstand@ssvheidenau.de
END:VEVENT
BEGIN:VEVENT
DTSTART;TZID=Europe/Berlin:20260821T170000
DTEND;TZID=Europe/Berlin:20260821T220000
DTSTAMP:20260423T115448
CREATED:20260101T190228Z
LAST-MODIFIED:20260101T190329Z
UID:5661-1787331600-1787349600@ssvheidenau.de
SUMMARY:Team-Cup Rettungsschwimmen
DESCRIPTION:
URL:https://ssvheidenau.de/event/team-cup-rettungsschwimmen/
LOCATION:Hauptstraße 5\, Heidenau\, 01809\, Deutschland
ORGANIZER;CN="DLRG%20OG%20Heidenau%20e.%20V.":MAILTO:info@heidenau.dlrg.de 
END:VEVENT
BEGIN:VEVENT
DTSTART;VALUE=DATE:20260822
DTEND;VALUE=DATE:20260824
DTSTAMP:20260423T115448
CREATED:20260101T190436Z
LAST-MODIFIED:20260101T190527Z
UID:5665-1787356800-1787529599@ssvheidenau.de
SUMMARY:Trainingslager HB B\, C\, D wbl\, Frauen
DESCRIPTION:
URL:https://ssvheidenau.de/event/trainingslager-hb-b-c-d-wbl-frauen/
LOCATION:Hauptstraße 37\, Heidenau\, 01809
ORGANIZER;CN="Sport-%20und%20Spielverein%20Heidenau%20e.V.":MAILTO:vorstand@ssvheidenau.de
END:VEVENT
BEGIN:VEVENT
DTSTART;VALUE=DATE:20260822
DTEND;VALUE=DATE:20260824
DTSTAMP:20260423T115448
CREATED:20260101T190506Z
LAST-MODIFIED:20260101T190506Z
UID:5667-1787356800-1787529599@ssvheidenau.de
SUMMARY:Trainingslager B\, C\, D ml\, Männer
DESCRIPTION:
URL:https://ssvheidenau.de/event/trainingslager-hb-b-c-d-wbl-frauen-2/
LOCATION:Ernst-Schneller-Straße 12\, Heidenau\, 01809\, Deutschland
ORGANIZER;CN="Sport-%20und%20Spielverein%20Heidenau%20e.V.":MAILTO:vorstand@ssvheidenau.de
END:VEVENT
BEGIN:VEVENT
DTSTART;VALUE=DATE:20260822
DTEND;VALUE=DATE:20260825
DTSTAMP:20260423T115448
CREATED:20260101T190717Z
LAST-MODIFIED:20260101T190717Z
UID:5671-1787356800-1787615999@ssvheidenau.de
SUMMARY:Brevet über 600 km
DESCRIPTION:Radfernfahrt als Qualifikation für Paris-Brest-Paris \n
URL:https://ssvheidenau.de/event/brevet-ueber-400-km-2-2-2-2/
LOCATION:Am Sportforum 5\, Heidenau\, 01809\, Deutschland
ORGANIZER;CN="Sport-%20und%20Spielverein%20Heidenau%20e.V.":MAILTO:vorstand@ssvheidenau.de
END:VEVENT
BEGIN:VEVENT
DTSTART;TZID=Europe/Berlin:20260822T160000
DTEND;TZID=Europe/Berlin:20260822T210000
DTSTAMP:20260423T115448
CREATED:20260101T190313Z
LAST-MODIFIED:20260101T190313Z
UID:5663-1787414400-1787432400@ssvheidenau.de
SUMMARY:Paarschwimmen
DESCRIPTION:
URL:https://ssvheidenau.de/event/team-cup-rettungsschwimmen-2/
LOCATION:Hauptstraße 5\, Heidenau\, 01809\, Deutschland
ORGANIZER;CN="DLRG%20OG%20Heidenau%20e.%20V.":MAILTO:info@heidenau.dlrg.de 
END:VEVENT
BEGIN:VEVENT
DTSTART;TZID=Europe/Berlin:20260822T190000
DTEND;TZID=Europe/Berlin:20260823T020000
DTSTAMP:20260423T115448
CREATED:20260101T190632Z
LAST-MODIFIED:20260101T190632Z
UID:5669-1787425200-1787450400@ssvheidenau.de
SUMMARY:Volleyball Nachtturnier
DESCRIPTION:Meldungen bis 01.08.2026 \nan: vorstand@ssvheidenau.de \n
URL:https://ssvheidenau.de/event/trainingslager-hb-b-c-d-wbl-frauen-2-2/
LOCATION:Hauptstraße 5\, Heidenau\, 01809\, Deutschland
ORGANIZER;CN="Sport-%20und%20Spielverein%20Heidenau%20e.V.":MAILTO:vorstand@ssvheidenau.de
END:VEVENT
BEGIN:VEVENT
DTSTART;TZID=Europe/Berlin:20260829T090000
DTEND;TZID=Europe/Berlin:20260829T170000
DTSTAMP:20260423T115448
CREATED:20260101T190821Z
LAST-MODIFIED:20260101T190821Z
UID:5673-1787994000-1788022800@ssvheidenau.de
SUMMARY:Beachwochenende Mixed für Jung und Alt
DESCRIPTION:Meldungen bis 01.08.2026 \nan: vorstand@ssvheidenau.de \n
URL:https://ssvheidenau.de/event/beachwochenende-mixed-fuer-jung-und-alt/
LOCATION:Hauptstraße 5\, Heidenau\, 01809\, Deutschland
ORGANIZER;CN="Sport-%20und%20Spielverein%20Heidenau%20e.V.":MAILTO:vorstand@ssvheidenau.de
END:VEVENT
BEGIN:VEVENT
DTSTART;TZID=Europe/Berlin:20260830T090000
DTEND;TZID=Europe/Berlin:20260830T170000
DTSTAMP:20260423T115448
CREATED:20260101T190858Z
LAST-MODIFIED:20260101T190858Z
UID:5675-1788080400-1788109200@ssvheidenau.de
SUMMARY:Beachwochenende Quattro-Mixed für Jung und Alt
DESCRIPTION:Meldungen bis 01.08.2026 \nan: vorstand@ssvheidenau.de \n
URL:https://ssvheidenau.de/event/beachwochenende-mixed-fuer-jung-und-alt-2/
LOCATION:Hauptstraße 5\, Heidenau\, 01809\, Deutschland
ORGANIZER;CN="Sport-%20und%20Spielverein%20Heidenau%20e.V.":MAILTO:vorstand@ssvheidenau.de
END:VEVENT
BEGIN:VEVENT
DTSTART;VALUE=DATE:20260905
DTEND;VALUE=DATE:20260906
DTSTAMP:20260423T115448
CREATED:20260101T190940Z
LAST-MODIFIED:20260101T190940Z
UID:5677-1788566400-1788652799@ssvheidenau.de
SUMMARY:Kreismeisterschaften SSOE im Beach-Volleyball Sun Mixed
DESCRIPTION:
URL:https://ssvheidenau.de/event/kreismeisterschaften-ssoe-im-beach-volleyball-sun-mixed/
LOCATION:Hauptstraße 5\, Heidenau\, 01809\, Deutschland
ORGANIZER;CN="Sport-%20und%20Spielverein%20Heidenau%20e.V.":MAILTO:vorstand@ssvheidenau.de
END:VEVENT
BEGIN:VEVENT
DTSTART;VALUE=DATE:20260906
DTEND;VALUE=DATE:20260907
DTSTAMP:20260423T115448
CREATED:20260101T190959Z
LAST-MODIFIED:20260101T190959Z
UID:5679-1788652800-1788739199@ssvheidenau.de
SUMMARY:Kreismisterschaften SSOE Damen und Herren
DESCRIPTION:
URL:https://ssvheidenau.de/event/kreismeisterschaften-ssoe-im-beach-volleyball-sun-mixed-2/
LOCATION:Hauptstraße 5\, Heidenau\, 01809\, Deutschland
ORGANIZER;CN="Sport-%20und%20Spielverein%20Heidenau%20e.V.":MAILTO:vorstand@ssvheidenau.de
END:VEVENT
BEGIN:VEVENT
DTSTART;TZID=Europe/Berlin:20260919T110000
DTEND;TZID=Europe/Berlin:20260919T210000
DTSTAMP:20260423T115448
CREATED:20260101T191113Z
LAST-MODIFIED:20260204T184004Z
UID:5681-1789815600-1789851600@ssvheidenau.de
SUMMARY:Sambo-Sachsenpokal
DESCRIPTION:Internationaler Wettkampf im Sambo\nSambowettkampf für Jungen und Mädchen\, Kinder und Erwachsene in allen Gewichtsklassen \nMeldungen bis 01.09.2026 \nan: vorstand@ssvheidenau.de \n
URL:https://ssvheidenau.de/event/sambo-sachsenpokal/
LOCATION:Hauptstraße 37\, Heidenau\, 01809
ORGANIZER;CN="Sport-%20und%20Spielverein%20Heidenau%20e.V.":MAILTO:vorstand@ssvheidenau.de
END:VEVENT
END:VCALENDAR